BEGIN:VCALENDAR
VERSION:2.0
PRODID:-//ERT//LNF26//DE
VERSION:2.0
BEGIN:VEVENT
UID:station_7433_20260324T160000Z
DTSTAMP:20260420T071700Z
URL:https://ert.langenachtderforschung.at/station/7433
DTSTART:20260324T160000Z
DTEND:20260424T210000Z
SUMMARY:[LNF26] L02: Mit Lego® Produktionsprozesse optimieren
DESCRIPTION:Lerne spielerisch, wie man Produktionsprozesse verbessert! Optimiere mit Lego® Schritt für Schritt einen Fertigungsablauf und finde heraus, wie man ihn effizienter gestaltet. Bei unserer Mitmachstation entdeckst du die Tricks von Lean Manufacturing – so wird Technik zum spielerischen Abenteuer!
LOCATION:Lakeside B11, 9020 Klagenfurt
GEO:46.61423291;14.26646054
END:VEVENT
END:VCALENDAR