BEGIN:VCALENDAR
VERSION:2.0
PRODID:-//ERT//LNF26//DE
VERSION:2.0
BEGIN:VEVENT
UID:station_7434_20260324T160000Z
DTSTAMP:20260420T072000Z
URL:https://ert.langenachtderforschung.at/station/7434
DTSTART:20260324T160000Z
DTEND:20260424T210000Z
SUMMARY:[LNF26] U11: Erleben und Erlesen: Warum reden wir über Bücher?
DESCRIPTION:BookTalks, BookTok, Welt-Literatur-Spiel und Epochenraten: so kann man Literatur erleben! Wir diskutieren mit prominenten Überraschungsgästen außergewöhnliche Bücher. Du kannst zur BookTokerin \nwerden und ein Video zu deiner Leseempfehlung auf nehmen. Leseinspiration gibt es bei uns im Welt-Literatur-Spiel und beim Epochenraten. Literatur lebt und Literaturwissenschaften sind keine verstaubte \nAngelegenheit!
LOCATION:Universitätsstraße 65-67, 9020 Klagenfurt
GEO:46.61631826;14.26516771
END:VEVENT
END:VCALENDAR