BEGIN:VCALENDAR
VERSION:2.0
PRODID:-//ERT//LNF26//DE
VERSION:2.0
BEGIN:VEVENT
UID:station_7435_20260324T160000Z
DTSTAMP:20260420T053900Z
URL:https://ert.langenachtderforschung.at/station/7435
DTSTART:20260324T160000Z
DTEND:20260424T210000Z
SUMMARY:[LNF26] L03: Was Motoren und Zahnräder besonders leise und zuverlässig macht
DESCRIPTION:Wir zeigen dir, wie kleine Motoren und Kunststoffzahnräder besonders leise und zuverlässig funktionieren. Bei uns kannst du dir selbst deinen eigenen Mini-Antrieb zusammenbauen und testen, wie leise er funktioniert – so lernst du spielerisch, wie Technik im Auto tickt!
LOCATION:Lakeside B11, 9020 Klagenfurt
GEO:46.61423291;14.26646054
END:VEVENT
END:VCALENDAR