BEGIN:VCALENDAR
VERSION:2.0
PRODID:-//ERT//LNF26//DE
VERSION:2.0
BEGIN:VEVENT
UID:station_7436_20260324T160000Z
DTSTAMP:20260420T071700Z
URL:https://ert.langenachtderforschung.at/station/7436
DTSTART:20260324T160000Z
DTEND:20260424T210000Z
SUMMARY:[LNF26] L04: Wie moderne Methoden und Technologien die Vielfalt der Natur erfassen
DESCRIPTION:Entdecke die Vielfalt der Natur mit Hightech! Mit Drohnen, Kamerafallen, Mikrofonen und KI erfassen wir Tiere, Pflanzen und Mikroorganismen. Sieh, wie Forscher:innen Informationen sammeln, Daten auswerten und so die Natur schützen. Spannend, interaktiv und ein Abenteuer für kleine und große Naturforscher:innen!
LOCATION:Lakeside B11, 9020 Klagenfurt
GEO:46.61423291;14.26646054
END:VEVENT
END:VCALENDAR