BEGIN:VCALENDAR
VERSION:2.0
PRODID:-//ERT//LNF26//DE
VERSION:2.0
BEGIN:VEVENT
UID:station_7437_20260324T160000Z
DTSTAMP:20260420T071800Z
URL:https://ert.langenachtderforschung.at/station/7437
DTSTART:20260324T160000Z
DTEND:20260424T210000Z
SUMMARY:[LNF26] U12: Let&#39;s Cross Borders - zwischen Ost und West
DESCRIPTION:Sprachen sind mehr als Mittel der Verständigung – sie stiften Zugehörigkeit und schaffen Grenzen. Projekte aus Sprach- und Literaturwissenschaft sowie Didaktik slawischer Sprachen machen Mehrsprachigkeit und Transkulturalität sichtbar. Sie tragen zur Überwindung von Grenzen bei, egal ob es um Kärnten/Koroška, den Balkan, Russland, den Kaukasus, die Ukraine usw. geht.
LOCATION:Universitätsstraße 65-67, 9020 Klagenfurt
GEO:46.61631826;14.26516771
END:VEVENT
END:VCALENDAR