BEGIN:VCALENDAR
VERSION:2.0
PRODID:-//ERT//LNF26//DE
VERSION:2.0
BEGIN:VEVENT
UID:station_7438_20260324T160000Z
DTSTAMP:20260420T054100Z
URL:https://ert.langenachtderforschung.at/station/7438
DTSTART:20260324T160000Z
DTEND:20260424T210000Z
SUMMARY:[LNF26] L05: Mit der BioBox die Natur in der Stadt entdecken
DESCRIPTION:Entdecke, wie du in Gärten und Parks die Natur fördern kannst! Mit der BioBox lernst du spielerisch, wie Bestäuber, Vögel und Fledermäuse unterstützt werden, wie man einfache Maßnahmen umsetzt und die Tierwelt beobachtet. Spiele, Basteltische und Sensoren machen Natur, Monitoring und Vielfalt greifbar und spannend!
LOCATION:Lakeside B11, 9020 Klagenfurt
GEO:46.61423291;14.26646054
END:VEVENT
END:VCALENDAR