BEGIN:VCALENDAR
VERSION:2.0
PRODID:-//ERT//LNF26//DE
VERSION:2.0
BEGIN:VEVENT
UID:station_7439_20260324T160000Z
DTSTAMP:20260420T054100Z
URL:https://ert.langenachtderforschung.at/station/7439
DTSTART:20260324T160000Z
DTEND:20260424T210000Z
SUMMARY:[LNF26] L06: So lernen wir Technik der Zukunft – heute schon!
DESCRIPTION:Erlebe bei myLab, wie zukünftige Ingenieur:innen und Forscher:innen mit modernen Laboren, Online-Experimenten und Virtual Reality arbeiten und lernen! Entdecke Wasserstofftechnologien, Automatisierung und Remote-Labore live. Steuere ein echtes Experiment selbst und schau, wie das Labor der Zukunft funktioniert – interaktiv und spannend!
LOCATION:Lakeside B11, 9020 Klagenfurt
GEO:46.61423291;14.26646054
END:VEVENT
END:VCALENDAR