BEGIN:VCALENDAR
VERSION:2.0
PRODID:-//ERT//LNF26//DE
VERSION:2.0
BEGIN:VEVENT
UID:station_7440_20260324T160000Z
DTSTAMP:20260420T054100Z
URL:https://ert.langenachtderforschung.at/station/7440
DTSTART:20260324T160000Z
DTEND:20260424T210000Z
SUMMARY:[LNF26] U13: Mit Kultur zum Glück! Das große AKuWi-Glücksrad
DESCRIPTION:Blicke hinter die Kulissen des Alltags! Entdecke, wie scheinbar banale Dinge, Normen und Handlungen mit großen gesellschaftlichen Entwicklungen zusammenhängen. Beantworte Fragen, drehe am Kulturglücksrad und gewinne besondere Alltagsobjekte. Erlebe Kultur zum Anfassen! An unserer Button-Maschine gestaltest du kreative Buttons als persönliches Souvenir.
LOCATION:Universitätsstraße 65-67, 9020 Klagenfurt
GEO:46.61631826;14.26516771
END:VEVENT
END:VCALENDAR