BEGIN:VCALENDAR
VERSION:2.0
PRODID:-//ERT//LNF26//DE
VERSION:2.0
BEGIN:VEVENT
UID:station_7441_20260324T160000Z
DTSTAMP:20260420T071800Z
URL:https://ert.langenachtderforschung.at/station/7441
DTSTART:20260324T160000Z
DTEND:20260424T210000Z
SUMMARY:[LNF26] L07: Spielend das Alter erleben
DESCRIPTION:Erpüre, wie sich Alter und Demenz anfühlen – spielerisch und interaktiv! Erlebe, wie es ist, in 5 Minuten 10 Jahre zu altern. Probiere Gesundheitslernspiele aus, lerne Stationen der Demenz-ParRk-UhR und digitale Assistenzsysteme kennen. So lernst du, wie innovative Spiele und Technologien helfen, dem Alter positiv zu begegnen.
LOCATION:Lakeside B11, 9020 Klagenfurt
GEO:46.61423291;14.26646054
END:VEVENT
END:VCALENDAR