BEGIN:VCALENDAR
VERSION:2.0
PRODID:-//ERT//LNF26//DE
VERSION:2.0
BEGIN:VEVENT
UID:station_7442_20260324T160000Z
DTSTAMP:20260420T054300Z
URL:https://ert.langenachtderforschung.at/station/7442
DTSTART:20260324T160000Z
DTEND:20260424T210000Z
SUMMARY:[LNF26] U14: Wie können wir Symmetrien erkennen, beschreiben und nutzen - von der Natur bis zur abstrakten Mathematik?
DESCRIPTION:Entdecke die faszinierende Welt der Symmetrien! Ob in den Flügeln eines Schmetterlings, in kunstvollen \nSchneeflocken oder in unendlichen Fraktalen, überall steckt Mathematik. An interaktiven Stationen erfährst du spielerisch, wie Symmetrien Natur, Musik und Kunst prägen.
LOCATION:Universitätsstraße 65-67, 9020 Klagenfurt
GEO:46.61631826;14.26516771
END:VEVENT
END:VCALENDAR