BEGIN:VCALENDAR
VERSION:2.0
PRODID:-//ERT//LNF26//DE
VERSION:2.0
BEGIN:VEVENT
UID:station_7443_20260324T160000Z
DTSTAMP:20260420T054000Z
URL:https://ert.langenachtderforschung.at/station/7443
DTSTART:20260324T160000Z
DTEND:20260424T210000Z
SUMMARY:[LNF26] L08: Gesund digital den Alltag gestalten
DESCRIPTION:Entdecke, wie digitale Technologien den Alltag und die Gesundheit unterstützen können! An unserer interaktiven Station kannst du verschiedene Hilfsmittel ausprobieren, testen, wie sie funktionieren, und Rückmeldungen geben. So lernst du spielerisch, welche Chancen und Herausforderungen moderne Technik im Alltag hat.
LOCATION:Lakeside B11, 9020 Klagenfurt
GEO:46.61423291;14.26646054
END:VEVENT
END:VCALENDAR