BEGIN:VCALENDAR
VERSION:2.0
PRODID:-//ERT//LNF26//DE
VERSION:2.0
BEGIN:VEVENT
UID:station_7444_20260324T160000Z
DTSTAMP:20260420T071600Z
URL:https://ert.langenachtderforschung.at/station/7444
DTSTART:20260324T160000Z
DTEND:20260424T210000Z
SUMMARY:[LNF26] L09: Vielfalt entdecken – Migration mit allen Sinnen erleben
DESCRIPTION:Erlebe, wie bunt und spannend unsere Welt ist! An interaktiven Stationen kannst du Quizze lösen, visuelle Eindrücke sammeln und spielerisch über Migration und interkulturelles Zusammenleben lernen. Entdecke neue Perspektiven, hinterfrage Vorurteile und erfahre, wie Vielfalt unser Zusammenleben bereichert.
LOCATION:Lakeside B11, 9020 Klagenfurt
GEO:46.61423291;14.26646054
END:VEVENT
END:VCALENDAR