BEGIN:VCALENDAR
VERSION:2.0
PRODID:-//ERT//LNF26//DE
VERSION:2.0
BEGIN:VEVENT
UID:station_7445_20260324T160000Z
DTSTAMP:20260420T054000Z
URL:https://ert.langenachtderforschung.at/station/7445
DTSTART:20260324T160000Z
DTEND:20260424T210000Z
SUMMARY:[LNF26] U15: Was passiert, wenn Natur und Technik voneinander lernen?
DESCRIPTION:Von Robotern zu Schleimpilzen: Erlebe an dieser Station, wie Energie und Umwelt spielerisch erforscht werden. An dieser Station steuerst du kleine Schwarmroboter und beobachtest, wie sie Aufgaben lösen. Du erforscht Schleimpilze unter dem Mikroskop und vollziehst ihr Verhalten in einer Computersimulation nach. Zusätzlich gibts Brett- und Videospiele rund um Energie, Umwelt und Forschung.
LOCATION:Universitätsstraße 65-67, 9020 Klagenfurt
GEO:46.61631826;14.26516771
END:VEVENT
END:VCALENDAR