BEGIN:VCALENDAR
VERSION:2.0
PRODID:-//ERT//LNF26//DE
VERSION:2.0
BEGIN:VEVENT
UID:station_7446_20260324T160000Z
DTSTAMP:20260420T054300Z
URL:https://ert.langenachtderforschung.at/station/7446
DTSTART:20260324T160000Z
DTEND:20260424T210000Z
SUMMARY:[LNF26] L10: Tales Beneath the Veil – Dein Abenteuer mit KI
DESCRIPTION:Erlebe ein einzigartiges Story-Puzzle-Abenteuer! Sprich mit einem KI-gesteuerten Charakter, dessen Reaktionen sich jedes Mal ändern, je nachdem, was du tust. Löse Rätsel, entdecke spannende Geschichten und erlebe, wie deine Entscheidungen die Welt des Spiels beeinflussen – ein interaktives Abenteuer, das nie gleich ist!
LOCATION:Lakeside B11, 9020 Klagenfurt
GEO:46.61423291;14.26646054
END:VEVENT
END:VCALENDAR