BEGIN:VCALENDAR
VERSION:2.0
PRODID:-//ERT//LNF26//DE
VERSION:2.0
BEGIN:VEVENT
UID:station_7447_20260324T160000Z
DTSTAMP:20260420T054100Z
URL:https://ert.langenachtderforschung.at/station/7447
DTSTART:20260324T160000Z
DTEND:20260424T210000Z
SUMMARY:[LNF26] L11: Werde ein ACExplorer!
DESCRIPTION:Begib dich auf eine spielerische Reise durch alle Länder der ACE² European University! Entdecke spannende Forschung, Lernmöglichkeiten und Nachhaltigkeitsprojekte, lerne die Visionen der Allianz kennen und erhalte Einblicke in neun europäische Hochschulen. Sammle interaktive Eindrücke und nimm ein Stück internationale Erfahrung mit nach Hause!
LOCATION:Lakeside B11, 9020 Klagenfurt
GEO:46.61423291;14.26646054
END:VEVENT
END:VCALENDAR