BEGIN:VCALENDAR
VERSION:2.0
PRODID:-//ERT//LNF26//DE
VERSION:2.0
BEGIN:VEVENT
UID:station_7448_20260324T160000Z
DTSTAMP:20260420T071800Z
URL:https://ert.langenachtderforschung.at/station/7448
DTSTART:20260324T160000Z
DTEND:20260424T210000Z
SUMMARY:[LNF26] U16: Können Videospiele Menschen weiser machen?
DESCRIPTION:Wir erforschen, ob und wie Videospiele Erkenntnisse fördern können. Dabei betrachten wir kurze Spiele, \ndie neue Perspektiven eröffnen, Mitgefühl anstoßen können und lange, geschichtenbasierte Spiele, durch \ndie sich neue Einsichten über uns selbst und das Leben gewinnen lassen. Du kannst selbst weisheitsaktivierende Videospiele ausprobieren und von Spielenden erfahren, wie sie sich dadurch weiterentwickelt haben.
LOCATION:Universitätsstraße 65-67, 9020 Klagenfurt
GEO:46.61631826;14.26516771
END:VEVENT
END:VCALENDAR