BEGIN:VCALENDAR
VERSION:2.0
PRODID:-//ERT//LNF26//DE
VERSION:2.0
BEGIN:VEVENT
UID:station_7449_20260324T160000Z
DTSTAMP:20260420T053800Z
URL:https://ert.langenachtderforschung.at/station/7449
DTSTART:20260324T160000Z
DTEND:20260424T210000Z
SUMMARY:[LNF26] U17: Wie kann man mit Videospielen Themen aufbereiten und verstehen lernen?
DESCRIPTION:Das offene „Klagenfurter Critical Game Lab“ zeigt: Spielen ist viel mehr! Wir spielen mit dir gemeinsam \nphilosophisch anregende Spielsequenzen aus aktuellen Videospielen und diskutieren über kritische Fragen unserer Gesellschaft. Dazu gibt es einführende Präsentationen aus den Game Studies. Ab 16 Jahren.
LOCATION:Universitätsstraße 65-67, 9020 Klagenfurt
GEO:46.61631826;14.26516771
END:VEVENT
END:VCALENDAR