BEGIN:VCALENDAR
VERSION:2.0
PRODID:-//ERT//LNF26//DE
VERSION:2.0
BEGIN:VEVENT
UID:station_7450_20260324T160000Z
DTSTAMP:20260420T054300Z
URL:https://ert.langenachtderforschung.at/station/7450
DTSTART:20260324T160000Z
DTEND:20260424T210000Z
SUMMARY:[LNF26] U18: Welt der Wahrscheinlichkeiten
DESCRIPTION:Wir tauchen mit dir in unserem Mini-Casino in die Welt der Wahrscheinlichkeiten ein. Hier kannst du selber spielen und erfahren wie die Mathematik hinter den Spielen funktioniert. Außerdem haben wir Beispiele, die zeigen, dass niemand Wahrscheinlichkeiten intuitiv versteht – z.B. die Frage, wie oft man beim Roulette spielen muss, bis eine Zahl zweimal drankommt. Freu dich auf spannende Wahrscheinlichkeitsspiele!
LOCATION:Universitätsstraße 65-67, 9020 Klagenfurt
GEO:46.61631826;14.26516771
END:VEVENT
END:VCALENDAR