BEGIN:VCALENDAR
VERSION:2.0
PRODID:-//ERT//LNF26//DE
VERSION:2.0
BEGIN:VEVENT
UID:station_7451_20260324T160000Z
DTSTAMP:20260420T054000Z
URL:https://ert.langenachtderforschung.at/station/7451
DTSTART:20260324T160000Z
DTEND:20260424T210000Z
SUMMARY:[LNF26] U19: Was ist schneller, grüner und privater: Edge oder Cloud?
DESCRIPTION:Beim Edge Computing werden Daten möglichst nah an dem verarbeitet, wo sie entstehen, statt sie in ein \nRechenzentrum oder eine Cloud zu schicken. Bei uns wirst du für eine Nacht zum/r Edge-AI-Forscher:in und siehst, wie kleine, intelligente Edge-Geräte Objekte erkennen, Aufgaben lösen und Energie sparen können. Wir bieten ein Rätselspiel für Kinder, KI-Teamwork für Familien und Infos zu Datenschutz für Erwachsene.
LOCATION:Universitätsstraße 65-67, 9020 Klagenfurt
GEO:46.61631826;14.26516771
END:VEVENT
END:VCALENDAR