BEGIN:VCALENDAR
VERSION:2.0
PRODID:-//ERT//LNF26//DE
VERSION:2.0
BEGIN:VEVENT
UID:station_7452_20260324T160000Z
DTSTAMP:20260420T053700Z
URL:https://ert.langenachtderforschung.at/station/7452
DTSTART:20260324T160000Z
DTEND:20260424T210000Z
SUMMARY:[LNF26] U20: Welche Aufgaben erfüllt eine Bibliothek in Zeiten von Digitalisierung und KI?
DESCRIPTION:Die Bibliothek stellt sich als Kuratorin für kulturelle Werte, Wissen und Informationskompetenz vor. In \nden Lesesälen können Besucher:innen die besonderen Bestände der Sondersammlungen, der Ingeborg-Bachmann-Bibliothek und des Karl-Popper-Archives entdecken. Darüber hinaus gibt es wieder \nspannende Mitmach-Stationen, die jungen Menschen die Welt der Buch- und Schriftkunst näherbringen, sowie einen Bücherflohmarkt.
LOCATION:Universitätsstraße 65-67, 9020 Klagenfurt
GEO:46.61631826;14.26516771
END:VEVENT
END:VCALENDAR