BEGIN:VCALENDAR
VERSION:2.0
PRODID:-//ERT//LNF26//DE
VERSION:2.0
BEGIN:VEVENT
UID:station_7453_20260324T160000Z
DTSTAMP:20260420T054000Z
URL:https://ert.langenachtderforschung.at/station/7453
DTSTART:20260324T160000Z
DTEND:20260424T210000Z
SUMMARY:[LNF26] U21: Wie machen Bildung, Kultur und Vielfalt unsere Welt besser?
DESCRIPTION:Denke mit, rede mit und forsche mit: Wir zeigen in einer Walking Gallery, wie spannend Sprache, Bildung, \nInklusion und Vielfalt sind. Kurze kreative Stationen geben dir Einblicke in aktuelle Forschung und laden \ndich zum Austausch ein – ein Erlebnis für alle, die entdecken wollen, wie Wissenschaft Zukunft gestaltet.
LOCATION:Universitätsstraße 65-67, 9020 Klagenfurt
GEO:46.61631826;14.26516771
END:VEVENT
END:VCALENDAR