BEGIN:VCALENDAR
VERSION:2.0
PRODID:-//ERT//LNF26//DE
VERSION:2.0
BEGIN:VEVENT
UID:station_7454_20260324T160000Z
DTSTAMP:20260420T054300Z
URL:https://ert.langenachtderforschung.at/station/7454
DTSTART:20260324T160000Z
DTEND:20260424T210000Z
SUMMARY:[LNF26] U22: Wie erfahren wir etwas über Moose, Heuschrecken und Europaschutzgebiete?
DESCRIPTION:Schon seit 178 Jahren betreibt der Naturwissenschaftliche Verein Forschung in Kärnten – nur wie macht er das? An dieser Station zeigen wir dir, wie Feldforschung funktioniert. Dich erwartet ein Ratespiel zu Heuschreckenstimmen und ein Memory zu Heuschreckenarten. Außerdem kannst du Moose bestimmen und erfährst viel über Kärntner Naturschutzgebiete und kannst interessante Naturobjekte in einem MINI-Museum bewundern.
LOCATION:Universitätsstraße 65-67, 9020 Klagenfurt
GEO:46.61631826;14.26516771
END:VEVENT
END:VCALENDAR