BEGIN:VCALENDAR
VERSION:2.0
PRODID:-//ERT//LNF26//DE
VERSION:2.0
BEGIN:VEVENT
UID:station_7455_20260324T160000Z
DTSTAMP:20260420T053800Z
URL:https://ert.langenachtderforschung.at/station/7455
DTSTART:20260324T160000Z
DTEND:20260424T210000Z
SUMMARY:[LNF26] U23: Wie können Mathematik und gesellschaftliche Themen verbunden werden?
DESCRIPTION:Viele gesellschaftliche Fragestellungen wie Wirtschaftswachstum, Gerechtigkeit oder Klimawandel \nlassen sich nur durch das Zusammenspiel von Disziplinen verstehen – auch die Mathematik ist beteiligt. \nBei dieser Station erforschst du, wo es spannende Verbindungen gibt, welche Bedeutung die Mathematik für deinen Alltag hat und wie man solche Verknüpfungen auch im Mathematikunterricht umsetzen kann.
LOCATION:Universitätsstraße 65-67, 9020 Klagenfurt
GEO:46.61631826;14.26516771
END:VEVENT
END:VCALENDAR