BEGIN:VCALENDAR
VERSION:2.0
PRODID:-//ERT//LNF26//DE
VERSION:2.0
BEGIN:VEVENT
UID:station_7456_20260324T160000Z
DTSTAMP:20260420T053900Z
URL:https://ert.langenachtderforschung.at/station/7456
DTSTART:20260324T160000Z
DTEND:20260424T210000Z
SUMMARY:[LNF26] U24: Welche Rolle(n) spielen wir in Organisationen?
DESCRIPTION:Kommst du auch mal krank zur Sitzung oder plagt dich schlechtes Gewissen im Homeoffice? Warum eigentlich? Wir erklären, wie neue Arbeitsformen unseren Alltag verändern, Führungskräfte Anwesenheit einschätzen und warum Frauengesundheit eine wichtige Rolle spielt. Außerdem zeigen wir, wie Organisation entsteht und warum sie so wichtig ist. Forsche mit uns und erlebe am Organisationsparcours, wie Organisation wirkt.
LOCATION:Universitätsstraße 65-67, 9020 Klagenfurt
GEO:46.61631826;14.26516771
END:VEVENT
END:VCALENDAR