BEGIN:VCALENDAR
VERSION:2.0
PRODID:-//ERT//LNF26//DE
VERSION:2.0
BEGIN:VEVENT
UID:station_7457_20260324T160000Z
DTSTAMP:20260420T071600Z
URL:https://ert.langenachtderforschung.at/station/7457
DTSTART:20260324T160000Z
DTEND:20260424T210000Z
SUMMARY:[LNF26] U25: Durchschaust du - egal ob jung oder alt - die digitalen Fallen?
DESCRIPTION:Wie leicht lassen wir uns täuschen? Welche technischen & psychologischen Waffen verwenden Online-Betrüger:innen? Wie unterscheiden wir legitime von betrügerischen Online-Inhalten? Wir bieten eine\nErlebniswelt zur Aufklärung über digitale Betrugsmaschen, KI-Fakes und Desinformation. In einer sicheren Umgebung tauchst du bei uns in Phishing- und Spoofing-Angriffe ein und lernst dabei, KI-generierte Fakes zu erkennen.
LOCATION:Universitätsstraße 65-67, 9020 Klagenfurt
GEO:46.61631826;14.26516771
END:VEVENT
END:VCALENDAR