BEGIN:VCALENDAR
VERSION:2.0
PRODID:-//ERT//LNF26//DE
VERSION:2.0
BEGIN:VEVENT
UID:station_7458_20260324T160000Z
DTSTAMP:20260420T072300Z
URL:https://ert.langenachtderforschung.at/station/7458
DTSTART:20260324T160000Z
DTEND:20260424T210000Z
SUMMARY:[LNF26] U26: Wie wirkt das Bild in der Öffentlichkeit?
DESCRIPTION:Diese Station zeigt filmische und fotografische Arbeiten von Studierenden der Visuellen Kultur. Erkunde\ndie interaktive Ausstellung. An jedem Objekt gilt es, ein Worträtsel zu lösen, das am Ende einen Satz ergibt. Das gesuchte Wort steht im Zusammenhang mit der gezeigten Arbeit – und ermöglicht dir, dich mit Bildern in der Öffentlichkeit zu beschäftigen.
LOCATION:Universitätsstraße 65-67, 9020 Klagenfurt
GEO:46.61631826;14.26516771
END:VEVENT
END:VCALENDAR