BEGIN:VCALENDAR
VERSION:2.0
PRODID:-//ERT//LNF26//DE
VERSION:2.0
BEGIN:VEVENT
UID:station_7459_20260324T160000Z
DTSTAMP:20260420T053800Z
URL:https://ert.langenachtderforschung.at/station/7459
DTSTART:20260324T160000Z
DTEND:20260424T210000Z
SUMMARY:[LNF26] U27: Wie wird die Softwareentwicklung durch KI revolutioniert?
DESCRIPTION:Künstliche Intelligenz durchdringt alle Bereicheund damit auch die Softwareentwicklung. Hochtrainierte Systeme wie Claude Code oder OpenAI’s Codex sollen Entwickler:innen beim Design und der Implementierung von komplexen Softwaresystemen unterstützen oder sogar ersetzen. An dieser Station zeigen wir dir anhand von praktischen Beispielen, wie KI die Softwareentwicklung unterstützen kann und wo ihre Grenzen liegen.
LOCATION:Universitätsstraße 65-67, 9020 Klagenfurt
GEO:46.61631826;14.26516771
END:VEVENT
END:VCALENDAR