BEGIN:VCALENDAR
VERSION:2.0
PRODID:-//ERT//LNF26//DE
VERSION:2.0
BEGIN:VEVENT
UID:station_7460_20260324T160000Z
DTSTAMP:20260420T054300Z
URL:https://ert.langenachtderforschung.at/station/7460
DTSTART:20260324T160000Z
DTEND:20260424T210000Z
SUMMARY:[LNF26] U28: family only – wenn Familien selber Lösungen für ihre Probleme finden!
DESCRIPTION:Die Methode „Familienrat – family group conferencing“ ist ein Game Changer in der Kinder- und Jugendhilfe und in der Prävention. Wir laden an dieser Station dazu ein, selbst eine Rolle in einem Familienrat in einer realen Fallgeschichte einzunehmen oder als Beobachter:in den Ablauf mitzuerleben und an der gemeinsamen Analyse teilzunehmen.
LOCATION:Universitätsstraße 65-67, 9020 Klagenfurt
GEO:46.61631826;14.26516771
END:VEVENT
END:VCALENDAR