BEGIN:VCALENDAR
VERSION:2.0
PRODID:-//ERT//LNF26//DE
VERSION:2.0
BEGIN:VEVENT
UID:station_7461_20260324T160000Z
DTSTAMP:20260420T053800Z
URL:https://ert.langenachtderforschung.at/station/7461
DTSTART:20260324T160000Z
DTEND:20260424T210000Z
SUMMARY:[LNF26] U29: Welche sind Kärntens Top 5 Exportländer?
DESCRIPTION:Die Exportoffensive des Landes Kärnten und der WKK unterstützt hiesige Unternehmen dabei, ihr Exportgeschäft auszuweiten. Bei dieser Station erwartet dich ein spannendes Rätsel, bei dem du den Top 5\nExportländern auf die Spur kommen kannst.
LOCATION:Universitätsstraße 65-67, 9020 Klagenfurt
GEO:46.61631826;14.26516771
END:VEVENT
END:VCALENDAR