BEGIN:VCALENDAR
VERSION:2.0
PRODID:-//ERT//LNF26//DE
VERSION:2.0
BEGIN:VEVENT
UID:station_7462_20260324T160000Z
DTSTAMP:20260420T054000Z
URL:https://ert.langenachtderforschung.at/station/7462
DTSTART:20260324T160000Z
DTEND:20260424T210000Z
SUMMARY:[LNF26] U30: Kann dein WLAN Eindringlinge erkennen?
DESCRIPTION:Wir zeigen dir ein Echtzeit-Modell, das mithilfe von WLAN-Signalen erkennt, wie viele Personen in einem\nRaum sind. Im Gegensatz zu Systemen, bei denen Kameras zum Einsatz kommen, wird so mehr Privatsphäre gewährleistet. Außerdem sind Systeme wie diese günstiger und schneller in größeren Räumen einsetzbar. Teste das System selbst, indem du ein Teil davon wirst!
LOCATION:Universitätsstraße 65-67, 9020 Klagenfurt
GEO:46.61631826;14.26516771
END:VEVENT
END:VCALENDAR