BEGIN:VCALENDAR
VERSION:2.0
PRODID:-//ERT//LNF26//DE
VERSION:2.0
BEGIN:VEVENT
UID:station_7463_20260324T160000Z
DTSTAMP:20260420T054300Z
URL:https://ert.langenachtderforschung.at/station/7463
DTSTART:20260324T160000Z
DTEND:20260424T210000Z
SUMMARY:[LNF26] U31: Wie leben Menschen mit Behinderungen im 21. Jahrhundert?
DESCRIPTION:Wie verändern moderne Technologien den Zugang zu Informationen, zu Hilfsmitteln und zur Teilhabe am\nLeben in der Gesellschaft. Bringt der technische Fortschritt allen was, oder werden hier auch Menschen\nausgegrenzt? An dieser Station kannst du selbst moderne assistierende Tools ausprobieren – von KI als\nUnterstützung beim Self Empowerment bis hin zur Navigation mit NaviLens und Co für blinde Menschen.
LOCATION:Universitätsstraße 65-67, 9020 Klagenfurt
GEO:46.61631826;14.26516771
END:VEVENT
END:VCALENDAR