BEGIN:VCALENDAR
VERSION:2.0
PRODID:-//ERT//LNF26//DE
VERSION:2.0
BEGIN:VEVENT
UID:station_7464_20260324T160000Z
DTSTAMP:20260420T053700Z
URL:https://ert.langenachtderforschung.at/station/7464
DTSTART:20260324T160000Z
DTEND:20260424T210000Z
SUMMARY:[LNF26] L12: Maschinen für die kleinsten Chips der Welt
DESCRIPTION:Lam Research entwickelt und baut Maschinen für die Herstellung modernster Chips. Der Standort Villach ist ein Zentrum für Anlagen, die nasschemische Schritte in der Chipherstellung durchführen. Unsere Maschinen bearbeiten Strukturen von nur 1/1.000.000 Millimeter mit Chemie. Welche Herausforderungen das bringt, zeigen und erklären wir an unserem Stand.
LOCATION:Lakeside B11, 9020 Klagenfurt
GEO:46.61423291;14.26646054
END:VEVENT
END:VCALENDAR