BEGIN:VCALENDAR
VERSION:2.0
PRODID:-//ERT//LNF26//DE
VERSION:2.0
BEGIN:VEVENT
UID:station_7465_20260324T160000Z
DTSTAMP:20260420T053800Z
URL:https://ert.langenachtderforschung.at/station/7465
DTSTART:20260324T160000Z
DTEND:20260424T210000Z
SUMMARY:[LNF26] U32: Wer bist du und wer wirst du, wenn du schreibst?
DESCRIPTION:Veränderst du dich durch das Schreiben und wie verändert sich dein Schreiben? An dieser Station geht\nes um Transformationsprozesse von Schreibenden. Du kannst dich bei uns in der Photo-Voice ausprobieren, indem du Foto und Beschreibung in einem Padlet hochlädst, das auf eine Leinwand übertragen wird. Gleichzeitig laden wir dich dazu ein, deine eigene Schreibbiografie gemeinsam mit uns zu reflektieren.
LOCATION:Universitätsstraße 65-67, 9020 Klagenfurt
GEO:46.61631826;14.26516771
END:VEVENT
END:VCALENDAR