BEGIN:VCALENDAR
VERSION:2.0
PRODID:-//ERT//LNF26//DE
VERSION:2.0
BEGIN:VEVENT
UID:station_7466_20260324T160000Z
DTSTAMP:20260420T054100Z
URL:https://ert.langenachtderforschung.at/station/7466
DTSTART:20260324T160000Z
DTEND:20260424T210000Z
SUMMARY:[LNF26] L13: „Natur, Kultur, Leben – der Biosphärenpark Nockberge zum Anfassen“
DESCRIPTION:Bei uns könnt ihr eine mobile Ausstellung zum Thema Biodiversität interaktiv entdecken. Präsentiert wird das Zusammenspiel von Mensch, Tier- und Pflanzenwelt als gemeinsamer Lebensraum. Ein Biosphärenpark-Ranger erläutert die Inhalte der mobilen Schulausstellung „Schlaufux on Tour“. Außerdem erhaltet ihr Einblicke in aktuelle studentische Forschungsprojekte im Kontext des Biosphärenpark Nockberge.
LOCATION:Lakeside B11, 9020 Klagenfurt
GEO:46.61423291;14.26646054
END:VEVENT
END:VCALENDAR