BEGIN:VCALENDAR
VERSION:2.0
PRODID:-//ERT//LNF26//DE
VERSION:2.0
BEGIN:VEVENT
UID:station_7467_20260324T160000Z
DTSTAMP:20260420T053800Z
URL:https://ert.langenachtderforschung.at/station/7467
DTSTART:20260324T160000Z
DTEND:20260424T210000Z
SUMMARY:[LNF26] U33: Wie tragen Geld- und Machtinteressen zur Ordnung des Raumes bei?
DESCRIPTION:Wir besprechen in Impulsvorträgen und Diskussionsrunden, wie der Wandel des Raums von statten ging: Von der „Unordnung“ in der Antike und des Mittelalters bis zur beginnenden „Ordnung“ im 18. und 19. Jahrhundert mit Katastern mit dem Ziel der Steigerung der Macht und der Einkünfte des Staates (Grundsteuer) sowie der Dokumentierung in der Gegenwart (Grundbuch, Geoinformation). Wir laden zur Diskussion und zum Quiz!
LOCATION:Universitätsstraße 65-67, 9020 Klagenfurt
GEO:46.61631826;14.26516771
END:VEVENT
END:VCALENDAR