BEGIN:VCALENDAR
VERSION:2.0
PRODID:-//ERT//LNF26//DE
VERSION:2.0
BEGIN:VEVENT
UID:station_7468_20260324T160000Z
DTSTAMP:20260420T053800Z
URL:https://ert.langenachtderforschung.at/station/7468
DTSTART:20260324T160000Z
DTEND:20260424T210000Z
SUMMARY:[LNF26] L14: Wie macht KI Parken und Skifahren smarter?
DESCRIPTION:Künstliche Intelligenz und Bildverarbeitung optimieren Parkplätze und Skipisten – von automatischer Kennzeichenerkennung bis zur smarten Zutrittskontrolle. Bilddaten werden in Echtzeit in unserer Cloud verarbeitet. Erlebe innovative Technologie live. Zukunft zum Anfassen!
LOCATION:Lakeside B11, 9020 Klagenfurt
GEO:46.61423291;14.26646054
END:VEVENT
END:VCALENDAR