BEGIN:VCALENDAR
VERSION:2.0
PRODID:-//ERT//LNF26//DE
VERSION:2.0
BEGIN:VEVENT
UID:station_7469_20260324T160000Z
DTSTAMP:20260420T054300Z
URL:https://ert.langenachtderforschung.at/station/7469
DTSTART:20260324T160000Z
DTEND:20260424T210000Z
SUMMARY:[LNF26] U34: Wie passiert es, dass sich mehrere Unternehmen in einer Region ansiedeln?
DESCRIPTION:Was braucht man, um eine Region wirtschaftlich zu beleben? Wir zeigen mit einem eigens entwickelten\nComputermodell den Zusammenhang zwischen regionalen Unternehmensnetzwerken und der Entwicklung von Regionen. Probiere an dieser Station selbst aus, welche Faktoren sich wie auf die wirtschaftliche Entwicklung einer Region auswirken.
LOCATION:Universitätsstraße 65-67, 9020 Klagenfurt
GEO:46.61631826;14.26516771
END:VEVENT
END:VCALENDAR