BEGIN:VCALENDAR
VERSION:2.0
PRODID:-//ERT//LNF26//DE
VERSION:2.0
BEGIN:VEVENT
UID:station_7470_20260324T160000Z
DTSTAMP:20260420T054100Z
URL:https://ert.langenachtderforschung.at/station/7470
DTSTART:20260324T160000Z
DTEND:20260424T210000Z
SUMMARY:[LNF26] L15: Was ist ein komplexes System?
DESCRIPTION:Entdecke mit uns, wie komplexe Systeme wirklich funktionieren! Bei uns kannst du ein Chaospendel beobachten, miterleben, wie Tierpopulationen auf Veränderung reagieren, und eine chemische Reaktion verfolgen, die periodisch ihre Farbe wechselt. Faszinierend, lebendig und voller Überraschungen!
LOCATION:Lakeside B11, 9020 Klagenfurt
GEO:46.61423291;14.26646054
END:VEVENT
END:VCALENDAR