BEGIN:VCALENDAR
VERSION:2.0
PRODID:-//ERT//LNF26//DE
VERSION:2.0
BEGIN:VEVENT
UID:station_7471_20260324T160000Z
DTSTAMP:20260420T071400Z
URL:https://ert.langenachtderforschung.at/station/7471
DTSTART:20260324T160000Z
DTEND:20260424T210000Z
SUMMARY:[LNF26] L16: Wie wir Mikroplastik aus Abwasser trennen
DESCRIPTION:Entdecke, wie Technik hilft, Mikroplastik aus Abwasser zu entfernen! EnviroChemie zeigt, welche Methoden Industrieabwässer sauber halten und unsere Umwelt schützen. Erlebe, wie Forscher und Ingenieure Wasser filtern, reinigen und so die Ressource Wasser nachhaltig bewahren – spannend und verständlich erklärt!
LOCATION:Lakeside B11, 9020 Klagenfurt
GEO:46.61423291;14.26646054
END:VEVENT
END:VCALENDAR