BEGIN:VCALENDAR
VERSION:2.0
PRODID:-//ERT//LNF26//DE
VERSION:2.0
BEGIN:VEVENT
UID:station_7472_20260324T160000Z
DTSTAMP:20260420T053800Z
URL:https://ert.langenachtderforschung.at/station/7472
DTSTART:20260324T160000Z
DTEND:20260424T210000Z
SUMMARY:[LNF26] U35: Hearing Video Games – Videospiele HÖREN
DESCRIPTION:Was macht Musik in Videospielen oder Filmen mit uns? Welche Mittel werden von den Komponisten\neingesetzt, um Emotionen zu wecken? Wir laden dich dazu ein, Medienmusik gemeinsam mit uns mit\ngeisteswissenschaftlichen Methoden zu analysieren. Tauche in einem 40-minütigen Workshop ein in die\nWelt der Medienmusik und des Forschens damit und darüber.
LOCATION:Universitätsstraße 65-67, 9020 Klagenfurt
GEO:46.61631826;14.26516771
END:VEVENT
END:VCALENDAR