BEGIN:VCALENDAR
VERSION:2.0
PRODID:-//ERT//LNF26//DE
VERSION:2.0
BEGIN:VEVENT
UID:station_7473_20260324T160000Z
DTSTAMP:20260420T054200Z
URL:https://ert.langenachtderforschung.at/station/7473
DTSTART:20260324T160000Z
DTEND:20260424T210000Z
SUMMARY:[LNF26] L17: Baden im Trinkwasser – im Naturpool aus Holz
DESCRIPTION:Wie kann ein Pool ohne Chemie sauber bleiben? In unserem Naturpool aus Holz arbeiten Mikroorganismen, Holz und Handwerk zusammen, um glasklares Wasser zu schaffen. Tauche ein und erlebe, wie Technik und Natur perfekt zusammenwirken – fast so, als würdest du direkt im Trinkwasser schwimmen!
LOCATION:Lakeside B11, 9020 Klagenfurt
GEO:46.61423291;14.26646054
END:VEVENT
END:VCALENDAR