BEGIN:VCALENDAR
VERSION:2.0
PRODID:-//ERT//LNF26//DE
VERSION:2.0
BEGIN:VEVENT
UID:station_7474_20260324T160000Z
DTSTAMP:20260420T054300Z
URL:https://ert.langenachtderforschung.at/station/7474
DTSTART:20260324T160000Z
DTEND:20260424T210000Z
SUMMARY:[LNF26] U36: Wie klingt der Ruf der Sirenen? Von Homers Odyssee zur Kleinen Meerjungfrau und Disneys Arielle
DESCRIPTION:Halb Mensch, halb Fisch, singen die Sirenen von Sehnsucht, Mut und dem Wunsch, die eigene Stimme zu finden. Sie überschreiten Grenzen und erzählen von der Kraft, anders zu sein. Finde heraus, wie antike\nMythen neu erklingen! Bastle deine glitzernde Meerjungfrauenflosse oder löse das Rätsel der Sirenen und\ngewinne!
LOCATION:Universitätsstraße 65-67, 9020 Klagenfurt
GEO:46.61631826;14.26516771
END:VEVENT
END:VCALENDAR