BEGIN:VCALENDAR
VERSION:2.0
PRODID:-//ERT//LNF26//DE
VERSION:2.0
BEGIN:VEVENT
UID:station_7475_20260324T160000Z
DTSTAMP:20260420T071700Z
URL:https://ert.langenachtderforschung.at/station/7475
DTSTART:20260324T160000Z
DTEND:20260424T210000Z
SUMMARY:[LNF26] L18: Was macht die Drohne in der Box und auf der Baustelle?
DESCRIPTION:Finde heraus wie digitale Bauaufsicht mit Hilfe von modernen „Drone in Box“ Lösungen funktioniert. Starte mit der richtigen Auswahl des Drohnen Standortes auf Basis von durchsichtigen Karten-Layern wie Gebäude, Stromleitungen oder Wegen. Ist die Drohne erst mal platziert beginnt die eigentliche Arbeit. Versuche alle Unterschiede zwischen zwei Bildern zu entdecken. Genau das machen auch KIs, um Baufortschritte oder Sc
LOCATION:Lakeside B11, 9020 Klagenfurt
GEO:46.61423291;14.26646054
END:VEVENT
END:VCALENDAR