BEGIN:VCALENDAR
VERSION:2.0
PRODID:-//ERT//LNF26//DE
VERSION:2.0
BEGIN:VEVENT
UID:station_7476_20260324T160000Z
DTSTAMP:20260420T072400Z
URL:https://ert.langenachtderforschung.at/station/7476
DTSTART:20260324T160000Z
DTEND:20260424T210000Z
SUMMARY:[LNF26] U37: Kannst du mit den Augen hören und mit den Händen sprechen?
DESCRIPTION:Hier erwarten dich Gebärdensprachworkshops (ÖGS), Live-Ratespiele, Workshops zum Lippenlesen\n(LL) und ein Fotopoint – all das zeigt dir, wie gehörlose und schwerhörige Menschen kommunizieren. An\ndieser Station kommst du direkt ins Gespräch mit gehörlosen und schwerhörigen Menschen und gewinnst\nnicht nur neues Wissen, sondern vielleicht auch eine kleine Belohnung bei unserem Quiz!
LOCATION:Universitätsstraße 65-67, 9020 Klagenfurt
GEO:46.61631826;14.26516771
END:VEVENT
END:VCALENDAR