BEGIN:VCALENDAR
VERSION:2.0
PRODID:-//ERT//LNF26//DE
VERSION:2.0
BEGIN:VEVENT
UID:station_7477_20260324T160000Z
DTSTAMP:20260420T054200Z
URL:https://ert.langenachtderforschung.at/station/7477
DTSTART:20260324T160000Z
DTEND:20260424T210000Z
SUMMARY:[LNF26] L19: #whatliesahead: Wie gestaltet Forschung die Energiewende von morgen
DESCRIPTION:Die nachhaltige Versorgung mit erneuerbarer Energie und die Energiewende gehören zu den zentralen Forschungsthemen unserer Zeit. Von intelligenten Netzen über flexible Speicherlösungen bis zu neuen Modellen für Wärme und Mobilität: Bei der Langen Nacht der Forschung zeigen wir, woran wir heute arbeiten, um das Energiesystem von morgen möglich zu machen.
LOCATION:Lakeside B11, 9020 Klagenfurt
GEO:46.61423291;14.26646054
END:VEVENT
END:VCALENDAR