BEGIN:VCALENDAR
VERSION:2.0
PRODID:-//ERT//LNF26//DE
VERSION:2.0
BEGIN:VEVENT
UID:station_7478_20260324T160000Z
DTSTAMP:20260420T053800Z
URL:https://ert.langenachtderforschung.at/station/7478
DTSTART:20260324T160000Z
DTEND:20260424T210000Z
SUMMARY:[LNF26] L20: Technik zum Staunen – Robotik virtuell erleben
DESCRIPTION:Tauche ein in die virtuelle Welt der Robotik! Mit Tablets, Smartphones und VR kannst du Roboterbewegungen sehen, digitale Zwillinge erkunden und selbst kleine Roboter steuern. Auf unserer mBot2-Bahn erlebst du spielerisch, wie Programmierung funktioniert – Technik wird greifbar, spannend und zum Ausprobieren!
LOCATION:Lakeside B11, 9020 Klagenfurt
GEO:46.61423291;14.26646054
END:VEVENT
END:VCALENDAR