BEGIN:VCALENDAR
VERSION:2.0
PRODID:-//ERT//LNF26//DE
VERSION:2.0
BEGIN:VEVENT
UID:station_7479_20260324T160000Z
DTSTAMP:20260420T054300Z
URL:https://ert.langenachtderforschung.at/station/7479
DTSTART:20260324T160000Z
DTEND:20260424T210000Z
SUMMARY:[LNF26] U38: Was schätzen Sie (im Archiv)?
DESCRIPTION:Mit dem Archiv-Schätzspiel erfahren Kinder und Erwachsene mehr über die Entstehung und Entwicklung\nder Universität Klagenfurt und ihre Bedeutung für die Region. Schätze hier, wie viele Menschen an der\nUniversität jährlich ein Studium abschließen oder wie schwer eine Archivbox ist und begib dich so auf eine spannende Reise in die Vergangenheit der Universität.
LOCATION:Universitätsstraße 65-67, 9020 Klagenfurt
GEO:46.61631826;14.26516771
END:VEVENT
END:VCALENDAR