BEGIN:VCALENDAR
VERSION:2.0
PRODID:-//ERT//LNF26//DE
VERSION:2.0
BEGIN:VEVENT
UID:station_7480_20260324T160000Z
DTSTAMP:20260420T071700Z
URL:https://ert.langenachtderforschung.at/station/7480
DTSTART:20260324T160000Z
DTEND:20260424T210000Z
SUMMARY:[LNF26] U39: Tauche ein in die märchenhafte Slawistik!
DESCRIPTION:Du kennst bestimmt Rotkäppchen – aber hast du es schon einmal auf Bosnisch, Kroatisch, Serbisch, Slowenisch, Russisch oder Ukrainisch gehört? Such dir eine Sprache aus und wir lesen dir das Märchen vor. Du kannst einfach zuhören oder mitmachen: Halte das passende Bild hoch, wenn du glaubst, ein Wort\nerkannt zu haben. Zum Schluss gestalten wir gemeinsam deinen eigenen Märchenbutton als Erinnerung an die Station.
LOCATION:Universitätsstraße 65-67, 9020 Klagenfurt
GEO:46.61631826;14.26516771
END:VEVENT
END:VCALENDAR