BEGIN:VCALENDAR
VERSION:2.0
PRODID:-//ERT//LNF26//DE
VERSION:2.0
BEGIN:VEVENT
UID:station_7481_20260324T160000Z
DTSTAMP:20260420T072100Z
URL:https://ert.langenachtderforschung.at/station/7481
DTSTART:20260324T160000Z
DTEND:20260424T210000Z
SUMMARY:[LNF26] L21: Kann KI kreativ sein?
DESCRIPTION:Entdecke, wie Künstliche Intelligenz Texte, Musik und Bilder erschafft! An drei Stationen kannst du ausprobieren, wie KI „kreativ“ arbeitet, und erfährst gleichzeitig, wo ihre Grenzen liegen. Spielerisch lernst du: Wahre Kreativität kommt vom Menschen – und das Urheberrecht schützt sie.
LOCATION:Lakeside B11, 9020 Klagenfurt
GEO:46.61423291;14.26646054
END:VEVENT
END:VCALENDAR