BEGIN:VCALENDAR
VERSION:2.0
PRODID:-//ERT//LNF26//DE
VERSION:2.0
BEGIN:VEVENT
UID:station_7482_20260324T160000Z
DTSTAMP:20260420T072000Z
URL:https://ert.langenachtderforschung.at/station/7482
DTSTART:20260324T160000Z
DTEND:20260424T210000Z
SUMMARY:[LNF26] U40: Was haben Frieda, Rap und Sternchen mit einer guten Welt für alle zu tun?
DESCRIPTION:Wir zeigen globale Zusammenhänge im Kontext von Demokratie, Frieden, Diversität und Teilhabe. Über\ngender- & diversitätssensible Medieninhalte und Materialien nähern wir uns diesen Themen an und erkunden, wie Hip-Hop/Rap, ein transtopischer Teppich oder ein Weltspiel, diese aufgreifen – kritisch, kreativ und laut.
LOCATION:Universitätsstraße 65-67, 9020 Klagenfurt
GEO:46.61631826;14.26516771
END:VEVENT
END:VCALENDAR